BEGIN:VCALENDAR
VERSION:2.0
PRODID:-//Family First Health - ECPv6.15.17//NONSGML v1.0//EN
CALSCALE:GREGORIAN
METHOD:PUBLISH
X-ORIGINAL-URL:https://www.familyfirsthealth.org
X-WR-CALDESC:Events for Family First Health
REFRESH-INTERVAL;VALUE=DURATION:PT1H
X-Robots-Tag:noindex
X-PUBLISHED-TTL:PT1H
BEGIN:VTIMEZONE
TZID:America/New_York
BEGIN:DAYLIGHT
TZOFFSETFROM:-0500
TZOFFSETTO:-0400
TZNAME:EDT
DTSTART:20220313T070000
END:DAYLIGHT
BEGIN:STANDARD
TZOFFSETFROM:-0400
TZOFFSETTO:-0500
TZNAME:EST
DTSTART:20221106T060000
END:STANDARD
BEGIN:DAYLIGHT
TZOFFSETFROM:-0500
TZOFFSETTO:-0400
TZNAME:EDT
DTSTART:20230312T070000
END:DAYLIGHT
BEGIN:STANDARD
TZOFFSETFROM:-0400
TZOFFSETTO:-0500
TZNAME:EST
DTSTART:20231105T060000
END:STANDARD
BEGIN:DAYLIGHT
TZOFFSETFROM:-0500
TZOFFSETTO:-0400
TZNAME:EDT
DTSTART:20240310T070000
END:DAYLIGHT
BEGIN:STANDARD
TZOFFSETFROM:-0400
TZOFFSETTO:-0500
TZNAME:EST
DTSTART:20241103T060000
END:STANDARD
END:VTIMEZONE
BEGIN:VEVENT
DTSTART;TZID=America/New_York:20230401T100000
DTEND;TZID=America/New_York:20230401T120000
DTSTAMP:20260424T074604
CREATED:20230320T173400Z
LAST-MODIFIED:20230320T182207Z
UID:9818-1680343200-1680350400@www.familyfirsthealth.org
SUMMARY:COVID-19 Bivalent Booster Clinic at Columbia Market House
DESCRIPTION:What: Receive yourÂ COVID-19 Bivalent booster shot \nWho: Anyone who is eligible to receive the booster \nWhen: Saturday\, April 1st from 10:00 am â€“ 12:00 pm \nWhere: Columbia Market House \n15 S 3rd St At\, \nColumbia\, PA 17512 \n  \nEligibility: \n\nMust be 18 years or older\nCan be given 2 months after primary series administered\nBring vaccine card\n\n*If vaccinated in PA but do not have a card\, our team can look up your vaccine record\n\n\n\n\nFREE\nNo appointment needed\nNo insurance needed
URL:https://www.familyfirsthealth.org/events/covid-19-bivalent-booster-clinic-at-columbia-market-house
LOCATION:Columbia Market House\, 15 S 3rd St At\, Columbia\, PA\, 17512\, United States
CATEGORIES:COVID-19 Vaccinations
END:VEVENT
BEGIN:VEVENT
DTSTART;TZID=America/New_York:20230414T090000
DTEND;TZID=America/New_York:20230414T120000
DTSTAMP:20260424T074604
CREATED:20230406T181129Z
LAST-MODIFIED:20230406T181129Z
UID:9905-1681462800-1681473600@www.familyfirsthealth.org
SUMMARY:Pediatric COVID-19 Clinic at Family First Health Columbia Medical Center
DESCRIPTION:Open to the community \nWhat: Pediatric COVID-19 Clinic\nWho: 6 months old – 17 years old\nWhen: Friday\, April 14th from 9:00 am – 12:00 pm\nWhere: Family First Health\nColumbia Medical Center\n369 Locust St\,\nColumbia\, PA 17512 \nFREE\nNo appointment needed\nNo insurance needed \nEligibility: \n\nBoosters can be given 2\nmonths after primary series\nadministered\nBring vaccine card\n\nIf vaccinated in PA but\ndo not have a card\,\nour team can look up\nyour vaccine record\n\n\n\nVaccines Available: \n\n6 mth â€“ 5 yrs: Moderna Primary Series\n6 mth â€“ 5yrs: Moderna Bivalent Booster\n6yrs â€“ 17 yrs: Moderna Bivalent Booster
URL:https://www.familyfirsthealth.org/events/pediatric-covid-19-clinic-at-family-first-health-columbia-medical-center
LOCATION:Family First Health Columbia Medical Center\, 369 Locust St\, Columbia\, PA\, 17512\, United States
CATEGORIES:COVID-19 Vaccinations
END:VEVENT
BEGIN:VEVENT
DTSTART;TZID=America/New_York:20230419T090000
DTEND;TZID=America/New_York:20230419T120000
DTSTAMP:20260424T074604
CREATED:20230406T181523Z
LAST-MODIFIED:20230406T181523Z
UID:9908-1681894800-1681905600@www.familyfirsthealth.org
SUMMARY:Pediatric COVID-19 Clinic at Family First Health Gettysburg Medical Center
DESCRIPTION:Open to the community \nWhat: Pediatric COVID-19 Clinic\nWho: 6 months old – 17 years old\nWhen: Friday\, April 14th from 9:00 am – 12:00 pm\nWhere: Family First Health\nGettysburg Medical Center\n1275 York Rd\,\nGettysburg\, PA 17325 \nFREE\nNo appointment needed\nNo insurance needed \nEligibility: \n\nBoosters can be given 2\nmonths after primary series\nadministered\nBring vaccine card\n\nIf vaccinated in PA but\ndo not have a card\,\nour team can look up\nyour vaccine record\n\n\n\nVaccines Available: \n\n6 mth â€“ 5 yrs: Moderna Primary Series\n6 mth â€“ 5yrs: Moderna Bivalent Booster\n6yrs â€“ 17 yrs: Moderna Bivalent Booster
URL:https://www.familyfirsthealth.org/events/pediatric-covid-19-clinic-at-family-first-health-gettysburg-medical-center
LOCATION:Family First Health Gettysburg Medical Center\, 1275 York Rd\, Gettysburg\, PA\, 17325\, United States
CATEGORIES:COVID-19 Vaccinations
END:VEVENT
BEGIN:VEVENT
DTSTART;TZID=America/New_York:20230430T110000
DTEND;TZID=America/New_York:20230430T143000
DTSTAMP:20260424T074604
CREATED:20230330T122707Z
LAST-MODIFIED:20230330T122707Z
UID:9869-1682852400-1682865000@www.familyfirsthealth.org
SUMMARY:Moderna Bivalent Booster Clinic at Shiloh Baptist Church
DESCRIPTION:What: Receive your ModernaÂ Bivalent booster shot \nWho: Anyone who is eligible to receive the booster \nWhen: Sunday\, April 30th from 11:00 am â€“ 2:30 pm \nWhere: Shiloh Baptist Church \n740 West Locust Street\, \nYork\, PA 17403 \n  \nEligibility: \n\nMust be 18 years or older\nCan be given 2 months after primary series administered\nBring vaccine card\n\n*If vaccinated in PA but do not have a card\, our team can look up your vaccine record\n\n\n\n\nFREE\nNo appointment needed\nNo insurance needed
URL:https://www.familyfirsthealth.org/events/moderna-bivalent-booster-clinic-at-shiloh-baptist-church
LOCATION:Shiloh Baptist Church\, 740 West Locust Street\, York\, PA\, 17403\, United States
CATEGORIES:COVID-19 Vaccinations
END:VEVENT
END:VCALENDAR