BEGIN:VCALENDAR
VERSION:2.0
PRODID:-//Family First Health - ECPv6.15.17//NONSGML v1.0//EN
CALSCALE:GREGORIAN
METHOD:PUBLISH
X-ORIGINAL-URL:https://www.familyfirsthealth.org
X-WR-CALDESC:Events for Family First Health
REFRESH-INTERVAL;VALUE=DURATION:PT1H
X-Robots-Tag:noindex
X-PUBLISHED-TTL:PT1H
BEGIN:VTIMEZONE
TZID:America/New_York
BEGIN:DAYLIGHT
TZOFFSETFROM:-0500
TZOFFSETTO:-0400
TZNAME:EDT
DTSTART:20220313T070000
END:DAYLIGHT
BEGIN:STANDARD
TZOFFSETFROM:-0400
TZOFFSETTO:-0500
TZNAME:EST
DTSTART:20221106T060000
END:STANDARD
BEGIN:DAYLIGHT
TZOFFSETFROM:-0500
TZOFFSETTO:-0400
TZNAME:EDT
DTSTART:20230312T070000
END:DAYLIGHT
BEGIN:STANDARD
TZOFFSETFROM:-0400
TZOFFSETTO:-0500
TZNAME:EST
DTSTART:20231105T060000
END:STANDARD
BEGIN:DAYLIGHT
TZOFFSETFROM:-0500
TZOFFSETTO:-0400
TZNAME:EDT
DTSTART:20240310T070000
END:DAYLIGHT
BEGIN:STANDARD
TZOFFSETFROM:-0400
TZOFFSETTO:-0500
TZNAME:EST
DTSTART:20241103T060000
END:STANDARD
END:VTIMEZONE
BEGIN:VEVENT
DTSTART;TZID=America/New_York:20231004T093000
DTEND;TZID=America/New_York:20231004T110000
DTSTAMP:20260422T212239
CREATED:20221212T200100Z
LAST-MODIFIED:20221212T200100Z
UID:9487-1696411800-1696417200@www.familyfirsthealth.org
SUMMARY:Free Blood Pressure Checks at White Rose Senior Center
DESCRIPTION:Family First Health will be offering free blood pressure checks to those who are eligible for senior center services from 9:30 a.m. till 11:00 a.m. at White Rose Senior Center on the first Wednesday of every month through the end of the year.
URL:https://www.familyfirsthealth.org/events/free-blood-pressure-checks-at-white-rose-senior-center-16
LOCATION:White Rose Senior Center\, 27 S Broad St # 1\, York\, PA\, 17403\, United States
CATEGORIES:Community Event
END:VEVENT
BEGIN:VEVENT
DTSTART;TZID=America/New_York:20231004T113000
DTEND;TZID=America/New_York:20231004T133000
DTSTAMP:20260422T212239
CREATED:20221213T133008Z
LAST-MODIFIED:20221213T133008Z
UID:9502-1696419000-1696426200@www.familyfirsthealth.org
SUMMARY:Free Blood Pressure Checks at Harvest of Blessing
DESCRIPTION:Family First Health will be offering free blood pressure checks to community members from 11:30 a.m. till 1:30 p.m. at Harvest of Blessing on the first Wednesday of every month through the end of the year.
URL:https://www.familyfirsthealth.org/events/free-blood-pressure-checks-at-harvest-of-blessing-16
LOCATION:Harvest of Blessing\, 339 S George St\, York\, PA\, 17403\, United States
CATEGORIES:Community Event
END:VEVENT
BEGIN:VEVENT
DTSTART;TZID=America/New_York:20231005T100000
DTEND;TZID=America/New_York:20231005T120000
DTSTAMP:20260422T212239
CREATED:20221213T155013Z
LAST-MODIFIED:20230803T175257Z
UID:9527-1696500000-1696507200@www.familyfirsthealth.org
SUMMARY:Free Blood Pressure Checks at CASA
DESCRIPTION:Family First Health will be offering free blood pressure checks to community members from 10:00 a.m. till 12:00 p.m. at CASA on the first Thursday of every month through the end of the year.
URL:https://www.familyfirsthealth.org/events/free-blood-pressure-checks-at-casa-10
LOCATION:CASA\, 225 East Princess Street\, York\, PA\, 17403\, United States
CATEGORIES:Community Event
END:VEVENT
BEGIN:VEVENT
DTSTART;TZID=America/New_York:20231006T100000
DTEND;TZID=America/New_York:20231006T120000
DTSTAMP:20260422T212239
CREATED:20221213T151506Z
LAST-MODIFIED:20230126T123155Z
UID:9514-1696586400-1696593600@www.familyfirsthealth.org
SUMMARY:Free Blood Pressure Checks at Martin Library
DESCRIPTION:Family First Health will be offering free blood pressure checks to community members from 10:00 a.m. till 12:00 p.m. at Martin Library on the first Friday of every month through the end of the year.
URL:https://www.familyfirsthealth.org/events/free-blood-pressure-checks-at-martin-memorial-library-9
LOCATION:Martin Library\, 159 East Market Street\, York\, 17401
CATEGORIES:Community Event
END:VEVENT
BEGIN:VEVENT
DTSTART;TZID=America/New_York:20231012T090000
DTEND;TZID=America/New_York:20231012T140000
DTSTAMP:20260422T212239
CREATED:20231009T151809Z
LAST-MODIFIED:20231009T151809Z
UID:245701-1697101200-1697119200@www.familyfirsthealth.org
SUMMARY:Free RHIV Testing at Asbury United Methodist Church
DESCRIPTION:Our Caring Together program will be offering FREE and confidential HIV testing at Asbury United Methodist Church on Thursday\, October 12th\, from 9:00 am till 2:00 pm. They will also have additional free resources available for the community. \nTake the Test & Take the Next Step
URL:https://www.familyfirsthealth.org/events/free-rhiv-testing-at-asbury-united-methodist-church
LOCATION:Asbury United Methodist Church\, 340 E Market St\, York\, PA\, 17403\, United States
CATEGORIES:Community Event
END:VEVENT
BEGIN:VEVENT
DTSTART;TZID=America/New_York:20231013T160000
DTEND;TZID=America/New_York:20231013T190000
DTSTAMP:20260422T212239
CREATED:20231009T151057Z
LAST-MODIFIED:20231009T151057Z
UID:245699-1697212800-1697223600@www.familyfirsthealth.org
SUMMARY:Millersville Pride Festival at Millersville University
DESCRIPTION:We will be offering FREE and confidential HIV testing and blood pressure checks at Millersville University on Friday\, October 13th\, from 4:00 pm till 7:00 pm. We will also have information related to FFH services\, vaccines\, health screenings\, annual visits\, and FFH giveaways!
URL:https://www.familyfirsthealth.org/events/millersville-pride-festival-at-millersville-university
LOCATION:Millersville University\, 40 Dilworth Rd\, Millersville\, PA\, 17551\, United States
CATEGORIES:Community Event
END:VEVENT
BEGIN:VEVENT
DTSTART;TZID=America/New_York:20231014T110000
DTEND;TZID=America/New_York:20231014T140000
DTSTAMP:20260422T212239
CREATED:20230928T185203Z
LAST-MODIFIED:20231004T141002Z
UID:245681-1697281200-1697292000@www.familyfirsthealth.org
SUMMARY:Annual Harvest Festival at Coleman Memorial Park in Lebanon
DESCRIPTION:Join us at Coleman Memorial Park in Lebanon on October 14th at 11:00 a.m. to 2:00 p.m. for their annual Harvest Festival! We will have information related to FFH services\, vaccines\, health screenings\, annual visits\, FFH giveaways\, and more!
URL:https://www.familyfirsthealth.org/events/annual-harvest-festival-at-coleman-memorial-park-in-lebanon
LOCATION:Coleman Memorial Park\, 1400 West Maple Street\, Lebanon\, PA\, 17046\, United States
END:VEVENT
BEGIN:VEVENT
DTSTART;TZID=America/New_York:20231014T190000
DTEND;TZID=America/New_York:20231014T220000
DTSTAMP:20260422T212239
CREATED:20231009T143135Z
LAST-MODIFIED:20231009T143135Z
UID:245698-1697310000-1697320800@www.familyfirsthealth.org
SUMMARY:Join us for National Coming Out Day: HomeComing Out in the Rainbow Rose Garden at YWCA Hanover
DESCRIPTION:Join us at YWCA Hanover on October 14th from 7:00 p.m. to 10:00 p.m. for National Coming Out Day! We will have information related to FFH services\, vaccines\, health screenings\, annual visits\, FFH giveaways\, and more!
URL:https://www.familyfirsthealth.org/events/join-us-for-national-coming-out-day-homecoming-out-in-the-rainbow-rose-garden-at-ywca-hanover
LOCATION:YWCA Hanover\, 23 W Chestnut St\, Hanover\, PA\, 17331\, United States
CATEGORIES:Community Event
END:VEVENT
BEGIN:VEVENT
DTSTART;TZID=America/New_York:20231017T100000
DTEND;TZID=America/New_York:20231017T120000
DTSTAMP:20260422T212239
CREATED:20221213T164016Z
LAST-MODIFIED:20221213T164016Z
UID:9540-1697536800-1697544000@www.familyfirsthealth.org
SUMMARY:Free Blood Pressure Checks at Guthrie Memorial Library
DESCRIPTION:Family First Health will be offering free blood pressure checks to community members from 10:00 a.m. till 12:00 a.m. at Guthrie Memorial Library on the third Tuesday of every month through the end of the year.
URL:https://www.familyfirsthealth.org/events/free-blood-pressure-checks-at-guthrie-memorial-library-9
LOCATION:Guthrie Memorial Library\, 2 Library Place\, Hanover\, PA\, 17331\, United States
CATEGORIES:Community Event
END:VEVENT
BEGIN:VEVENT
DTSTART;TZID=America/New_York:20231021T090000
DTEND;TZID=America/New_York:20231021T130000
DTSTAMP:20260422T212239
CREATED:20230816T165000Z
LAST-MODIFIED:20230816T165000Z
UID:245580-1697878800-1697893200@www.familyfirsthealth.org
SUMMARY:Latino Health Fair in Downtown Lebanon
DESCRIPTION:Join us at the Lebanon Family Health Services Latino Health Fair on October 21st from 9:00 a.m. to 1:00 p.m. in downtown Lebanon! We will be offering free blood pressure checks\, have information related to FFH services\, vaccines\, health screenings\, annual visits\, FFH giveaways\, and more!
URL:https://www.familyfirsthealth.org/events/latino-health-fair-in-downtown-lebanon
LOCATION:Lebanon Family Health Services\, 615 Cumberland Street\, Lebanon\, PA\, 17042\, United States
CATEGORIES:Community Event
END:VEVENT
BEGIN:VEVENT
DTSTART;TZID=America/New_York:20231021T100000
DTEND;TZID=America/New_York:20231021T110000
DTSTAMP:20260422T212239
CREATED:20230605T170143Z
LAST-MODIFIED:20230605T170143Z
UID:245206-1697882400-1697886000@www.familyfirsthealth.org
SUMMARY:Walk With A Doc
DESCRIPTION:On Saturday\, October 21st\, we will have our monthly Walk With A Doc at Union Canal Tunnel Park in Lebanon at 10:00 am till 11:00 am. For those not familiar with Walk With a Doc\, it is a national healthcare-provider-led walking program that invites patients and the community to get out and walk together for exercise\, health education\, and connection building. Anna Deraco\, Physician Assistant at our Lebanon Center\, will be leading this walk; you won’t want to miss it! For more information\, visit https://walkwithadoc.org/…/locations/lebanon-pennsylvania/.
URL:https://www.familyfirsthealth.org/events/walk-with-a-doc-9
LOCATION:Union Canal Tunnel Park South\, 25th and\, Union Canal Dr\, Lebanon\, PA 17046\, Union Canal Tunnel Park South\, Lebanon\, 17046\, United States
CATEGORIES:Community Event
ATTACH;FMTTYPE=image/png:https://www.familyfirsthealth.org/wp-content/uploads/2022/10/48052408_10156799510168446_7249980193798881280_n.png
END:VEVENT
BEGIN:VEVENT
DTSTART;TZID=America/New_York:20231028T180000
DTEND;TZID=America/New_York:20231028T203000
DTSTAMP:20260422T212239
CREATED:20231006T145806Z
LAST-MODIFIED:20231006T145806Z
UID:245694-1698516000-1698525000@www.familyfirsthealth.org
SUMMARY:Fall Block Party in Lebanon
DESCRIPTION:Join us in Lebanon on October 28th from 6:00 p.m. to 8:30 p.m. for a fall block party that includes free food\, children’s activities\, entertainment and trunk-or-treat! We will have information related to FFH services\, vaccines\, health screenings\, annual visits\, FFH giveaways\, and more!
URL:https://www.familyfirsthealth.org/events/fall-block-party-in-lebanon
LOCATION:Chestnut Street Community Center\, 609 Chestnut Street\, Lebanon\, PA\, 17042\, United States
CATEGORIES:Community Event
ATTACH;FMTTYPE=image/jpeg:https://www.familyfirsthealth.org/wp-content/uploads/2023/10/381163927_255287970830117_2127537605081285956_n.jpg
END:VEVENT
END:VCALENDAR